BEGIN:VCALENDAR
VERSION:2.0
PRODID:-//All Sports For All People - ECPv6.15.20//NONSGML v1.0//EN
CALSCALE:GREGORIAN
METHOD:PUBLISH
X-WR-CALNAME:All Sports For All People
X-ORIGINAL-URL:https://www.allsportsforallpeople.net
X-WR-CALDESC:Events for All Sports For All People
REFRESH-INTERVAL;VALUE=DURATION:PT1H
X-Robots-Tag:noindex
X-PUBLISHED-TTL:PT1H
BEGIN:VTIMEZONE
TZID:America/New_York
BEGIN:DAYLIGHT
TZOFFSETFROM:-0500
TZOFFSETTO:-0400
TZNAME:EDT
DTSTART:20250309T070000
END:DAYLIGHT
BEGIN:STANDARD
TZOFFSETFROM:-0400
TZOFFSETTO:-0500
TZNAME:EST
DTSTART:20251102T060000
END:STANDARD
BEGIN:DAYLIGHT
TZOFFSETFROM:-0500
TZOFFSETTO:-0400
TZNAME:EDT
DTSTART:20260308T070000
END:DAYLIGHT
BEGIN:STANDARD
TZOFFSETFROM:-0400
TZOFFSETTO:-0500
TZNAME:EST
DTSTART:20261101T060000
END:STANDARD
BEGIN:DAYLIGHT
TZOFFSETFROM:-0500
TZOFFSETTO:-0400
TZNAME:EDT
DTSTART:20270314T070000
END:DAYLIGHT
BEGIN:STANDARD
TZOFFSETFROM:-0400
TZOFFSETTO:-0500
TZNAME:EST
DTSTART:20271107T060000
END:STANDARD
END:VTIMEZONE
BEGIN:VEVENT
DTSTART;VALUE=DATE:20260328
DTEND;VALUE=DATE:20260518
DTSTAMP:20260423T081430
CREATED:20260128T151554Z
LAST-MODIFIED:20260422T134557Z
UID:42934-1774656000-1779062399@www.allsportsforallpeople.net
SUMMARY:Sailfish – John Jay – Spring2026
DESCRIPTION:For swimmers who can swim one length of the pool front crawl minimal coordination. \nClass goal: perfect front crawl techniques\, build endurance\, perfect front crawl starts and turns\, swim one length of the pool with proper front crawl technique\, learn to swim backstroke and tread water. \nPrices are prorated each week.
URL:https://www.allsportsforallpeople.net/class/sailfish-john-jay-spring2026/
LOCATION:John Jay High School\, 237 7th Avenue\, Brooklyn\, NY\, 11215\, United States
CATEGORIES:John Jay high school
END:VEVENT
END:VCALENDAR